BEGIN:VCALENDAR
VERSION:2.0
PRODID:-//Sabre//Sabre VObject 4.5.7//EN
CALSCALE:GREGORIAN
BEGIN:VEVENT
UID:sabre-vobject-447fb7bc-e725-48c6-afa6-b4a7f44c76a0
DTSTAMP:20260419T132623Z
SUMMARY:Kirchenführung: "Von Ansgar bis Zimbelsternchen"
DTSTART;TZID=Europe/Berlin:20260319T150000
ORGANIZER;CN=Hauptkirche St. Petri:MAILTO:info@sankt-petri.de
LOCATION:Hauptkirche St. Petri\, Bei der Petrikirche 2\, Hamburg
GEO:53.550343;9.99673
DESCRIPTION:\nKirchenführung | mit Hella Calvi | Dauer ca. 1 Stunde | Tref
 fpunkt Turmhalle | Eintritt frei\, wir freuen uns über Spenden
BEGIN:VALARM
TRIGGER;VALUE=DURATION:P1D
ACTION:DISPLAY
DESCRIPTION:Kirchenführung: "Von Ansgar bis Zimbelsternchen"
END:VALARM
END:VEVENT
END:VCALENDAR
