BEGIN:VCALENDAR
VERSION:2.0
PRODID:-//Sabre//Sabre VObject 4.5.7//EN
CALSCALE:GREGORIAN
BEGIN:VEVENT
UID:sabre-vobject-fe2db9a3-1bda-429a-a5d6-e29d9dcdc4a8
DTSTAMP:20260425T144951Z
SUMMARY:CANTO III\, Konzert Jazzclub Wittlich
DTSTART;TZID=Europe/Berlin:20260425T000000
ORGANIZER;CN=Jazzclub Wittlich e.V.:MAILTO:info@Jazzclub-Wittlich.de
LOCATION:Casino\, Friedrichstraße 4\, Wittlich
GEO:49.986944;6.889722
DESCRIPTION:\nCANTO III  - Konzert am Donnerstag\, 25.04.2026\, 20 Uhr\, 
 im Casino\, Friedrichstraße 4\, Wittlich\nLaurent Derache - Akkordeon\nSy
 lvain Gontard - Flügelhorn\nChristophe Wallemme - Bass\nMatthieu Chazaren
 c - Schlagzeug\nDer aus Paris stammende Jazzmusiker Matthieu Chazarenc an 
 der Spitze seines Quartetts Canto hat seinen Kompass nach Süden ausgerich
 tet. Tatsächlich schwingen im Herzen von Canto III Einflüsse aus Südspa
 nien\, dem Mittelmeerraum\, Südamerika und nicht zuletzt dem Mutterland s
 einer südwestfranzösischen Herkunft mit. Offensichtlich geht es bei sei
 nen neuen Kompositionen um Wurzeln\, denn sie bieten eine feste Verankerun
 g und eine stabile Basis\, von der aus man sich erheben kann\, aber auch\,
  weil sie Schutz und Bewahrung benötigen. Dieses Bedürfnis nach Authenti
 zität und Integrität kommt am besten durch Matthieus Wunsch zum Ausdruck
 \, die zu bevorzugende natürliche Klangfarbe der Instrumente und ihre Fä
 higkeit\, sowohl reine als auch akustische Klangfarben zu liefern. Auf se
 iner Reise Richtung Süden kann Mathieu auf seine vertrauenswürdigen Begl
 eiter Christophe Wallemme am Kontrabass\, Sylvain Gontard am Flügelhorn u
 nd Laurent Derache am Akkordeon zählen. Durch ihre gemeinsamen Auftritte 
 seit 2017 haben sie im Rahmen zahlreicher Konzerte und Tourneen ein tolles
  Verhältnis aufgebaut und eine eigenwillige musikalische Identität entwi
 ckelt\, die bei jedem einzelnen Konzert spürbar ist. Jedes Mitglied des Q
 uartetts bringt seine eigene Farbe und seinen eigenen Klang ins Spiel\, um
  die von Matthieu komponierten Originalmelodien besser zur Geltung zu brin
 gen.\nKartenvorverkauf in Wittlich: Buchhandlung Nels\, Trierer Straße 20
 \, Tel. 06571-96550\, Altstadt Buchhandlung\, Burgstraße 36\, Tel. 06571-
 96023\nTicket REGIONAL: www.ticket-regional.de\, Tel. 0651-9790777\nTicket
  Regional gibt's auch in der Tourist-Information\, Marktplatz\, Wittlich\,
  Tel. 06571-246624\nCANTO III  -  Konzert präsentiert vom Jazz Club Wit
 tlich e.V.
BEGIN:VALARM
TRIGGER;VALUE=DURATION:P1D
ACTION:DISPLAY
DESCRIPTION:CANTO III\, Konzert Jazzclub Wittlich
END:VALARM
END:VEVENT
END:VCALENDAR
