BEGIN:VCALENDAR
VERSION:2.0
PRODID:-//Sabre//Sabre VObject 4.5.7//EN
CALSCALE:GREGORIAN
BEGIN:VEVENT
UID:sabre-vobject-03eb177b-b944-4a3e-b5a7-ee0c03c01153
DTSTAMP:20260422T171956Z
SUMMARY:Christmas Gala 2025
DTSTART;TZID=Europe/Berlin:20251212T200000
ORGANIZER;CN=Ev.-luth. Paul-Gerhardt-Gemeinde zu Hamburg-Winterhude:MAILTO:
 no-reply@termine-regional.de
LOCATION:Paul-Gerhardt-Kirche Winterhude\, Braamkamp 51\, Hamburg (Hamburg-
 Nord)
GEO:53.6002937;10.0051
DESCRIPTION:\nEine Veranstaltung der Reihe Christmas Gala 2025 - GospelFire
  und SoulTeens Hamburg\n\nChristmas Gala 2025 "Fairytales of Christmas" Mi
 t GospelFire und SoulTeens Hamburg\, Gospelband und Streichquartett Modera
 tion: Pastorin Dr. Nina Heinsohn und Wilbert Olinde Leitung: Popkantorin C
 harlotte Krohn.
BEGIN:VALARM
TRIGGER;VALUE=DURATION:P1D
ACTION:DISPLAY
DESCRIPTION:Christmas Gala 2025
END:VALARM
END:VEVENT
END:VCALENDAR
