BEGIN:VCALENDAR
VERSION:2.0
PRODID:-//Sabre//Sabre VObject 4.5.7//EN
CALSCALE:GREGORIAN
BEGIN:VEVENT
UID:sabre-vobject-e3837254-fd21-40c8-94f1-e1da77a229f2
DTSTAMP:20260422T174412Z
SUMMARY:Eine Weihnachtsgeschichte nach Charles Dickens
DTSTART;TZID=Europe/Berlin:20251119T100000
ORGANIZER;CN=St. Pauli Theater Produktionsges. mbH:MAILTO:info@st-pauli-the
 ater.de
LOCATION:St. Pauli Theater\, Spielbudenplatz 29\, Hamburg (Hamburg-Mitte)
GEO:53.5491171;9.9628259
DESCRIPTION:Eine Veranstaltung der Reihe Eine Weihnachtsgeschichte - St. Pa
 uli Theater\n\nEine Weihnachtsgeschichte - St. Pauli Theater
BEGIN:VALARM
TRIGGER;VALUE=DURATION:P1D
ACTION:DISPLAY
DESCRIPTION:Eine Weihnachtsgeschichte nach Charles Dickens
END:VALARM
END:VEVENT
END:VCALENDAR
