BEGIN:VCALENDAR
VERSION:2.0
PRODID:-//Sabre//Sabre VObject 4.5.7//EN
CALSCALE:GREGORIAN
BEGIN:VEVENT
UID:sabre-vobject-c31ab21a-ed71-4a14-9d49-e997f4c5861a
DTSTAMP:20260420T101639Z
SUMMARY:Face Glow-Up Retreat im SlowDown Travemünde
DTSTART;TZID=Europe/Berlin:20260510T100000
DTEND;TZID=Europe/Berlin:20260510T150000
ORGANIZER;CN=SlowDown Hotel Travemünde:MAILTO:no-reply@termine-regional.de
LOCATION:SlowDown Hotel Travemünde\, Priwallpromenade 20\, Lübeck (Travem
 ünde)
GEO:53.9564078;10.8812749
DESCRIPTION:\nMuttertag an der Ostsee! * slowdown-travemuende.de\n\nVerwöh
 n-Momente zum Muttertag! Beim Face Glow-Up Retreat im Bay-Spa könnt ihr e
 uch entspannen\, werdet mit einem leichten Tages-Make-up verwöhnt und hal
 tet eure besonderen Augenblicke anschließend in einem Mini-Fotoshooting f
 est. \n\nAnmeldung: info@bayspa-travemuende.de \n\nTeilnahme: 35 Minuten f
 ür 2 Personen € 80\,-
BEGIN:VALARM
TRIGGER;VALUE=DURATION:P1D
ACTION:DISPLAY
DESCRIPTION:Face Glow-Up Retreat im SlowDown Travemünde
END:VALARM
END:VEVENT
END:VCALENDAR
