BEGIN:VCALENDAR
VERSION:2.0
PRODID:-//Sabre//Sabre VObject 4.5.7//EN
CALSCALE:GREGORIAN
BEGIN:VEVENT
UID:sabre-vobject-78a866d3-c7e6-40f0-9531-79eb9562eef2
DTSTAMP:20260422T170046Z
SUMMARY:FLORENTINA HOLZINGER - A YEAR WITHOUT SUMMER
DTSTART;TZID=Europe/Berlin:20250824T200000
DTEND;TZID=Europe/Berlin:20250824T220000
ORGANIZER;CN=Kampnagel Internationale Kulturfabrik GmbH:MAILTO:mail@kampnag
 el.de
LOCATION:Kampnagel\, Jarrestraße 20\, Hamburg (Hamburg-Nord)
GEO:53.5841979;10.022127
DESCRIPTION:\nRadikal\, lebendig\, kompromisslos: Das Werk der Choreografin
  Florentina Holzinger ist\n\nzurzeit das Eindrucksvollste\, was der Kultur
 betrieb zu bieten hat.\n\n>>Monopol Magazin<<\n\nMit feministischer Wucht 
 haucht Florentina Holzinger dem alten Medium Theater frisches Leben ein. I
 n exzessiven Bühnenspektakeln befreit sie den Körper von Schönheitsnorm
 en und Rollenmustern\, um ihn in seiner ganzen Verletzlichkeit und Stärke
  zu zeigen. Zuletzt kürte das Monopol Magazin sie zur einflussreichsten K
 ünstlerin des Jahres\; gemeinsam mit Marlene Monteiro Freitas wird sie di
 e Zukunft der Berliner Volksbühne mitbestimmen\; und bei der kommenden Ve
 nedig Biennale repräsentiert sie Österreich (unweit des belgischen Pavil
 lons von Miet Warlop). Das Sommerfestival zeigt Florentina Holzingers Genr
 e sprengenden Arbeiten seit Karrierebeginn und präsentiert nun als Koprod
 uktion ihren neuesten Theaterwurf. Die Arbeit ist angelehnt an das "Jahr o
 hne Sommer" 1816\, als ein Vulkanausbruch eine globale Klimakatastrophe au
 slöste (siehe auch Lord Byrons Text)\, während gleichzeitig die Schrifts
 tellerin Mary Shelley mit "Frankenstein" eine popkulturelle Ikone des Mons
 trösen erschuf. In diesem Drahtseilakt zwischen dem Wunsch nach ewigem Le
 ben und dem sicheren Tod wird die Bühne zum apokalyptischen Versuchslabor
  und der Körper immer radikaleren Wetterbedingungen ausgesetzt. Mit echte
 n Blut\, Stürmen\, und inszeniert als Musical.
BEGIN:VALARM
TRIGGER;VALUE=DURATION:P1D
ACTION:DISPLAY
DESCRIPTION:FLORENTINA HOLZINGER - A YEAR WITHOUT SUMMER
END:VALARM
END:VEVENT
END:VCALENDAR
