BEGIN:VCALENDAR
VERSION:2.0
PRODID:-//Sabre//Sabre VObject 4.5.7//EN
CALSCALE:GREGORIAN
BEGIN:VEVENT
UID:sabre-vobject-347c2faf-d722-4edc-9b32-1340d1fde9ef
DTSTAMP:20260425T145021Z
SUMMARY:Frau Holle fährt Dampflok
DTSTART;TZID=Europe/Berlin:20260425T000000
ORGANIZER;CN=Eifelverein-Ortsgruppe Daun:MAILTO:drockur.evdaun@web.de
LOCATION:Forum Daun\, Daun
GEO:50.2009293;6.8017561
DESCRIPTION:\nFrau Holle ist der Name einer Felsformation am Anfang der mä
 rchenhaften Wanderung in der abwechslungsreichen Landschaft des Schwarzwä
 lder Hochwaldes Nahe Reinsfeld. Ca. 8 km über zumeist einfache Wege und 2
 69 Höhenmeter verlangen dem Wanderer nicht allzuviel ab. Der erwachende F
 rühling und die bezaubernde Flußlandschaft an Wadrill und Lauschbach bie
 ten eine prima Kulisse für Naturbeobachtungen. Vielleicht sehen wir ja di
 e hier heimischen Biber?\nDer zweite Teil der Wanderung ist der Besuch im 
 Dampflokmuseum Hermeskeil. \n\nWer die 7 Euro Eintritt sparen möchte\, ka
 nn in einem nahegelegenen Cafe ausruhen.\nAnreise in Fahrgemeinschaften. \
 nTreffpunkt 9.30 Uhr Forum Daun.\n Bitte Anmeldung bei WF Michael Drockur
  drockur.evdaun@web.de oder Telefon 06592-3408\nCa. 8 km über zumeist ein
 fache Wege und 269 Höhenmeter - Eifelverein Daun
BEGIN:VALARM
TRIGGER;VALUE=DURATION:P1D
ACTION:DISPLAY
DESCRIPTION:Frau Holle fährt Dampflok
END:VALARM
END:VEVENT
END:VCALENDAR
