BEGIN:VCALENDAR
VERSION:2.0
PRODID:-//Sabre//Sabre VObject 4.5.7//EN
CALSCALE:GREGORIAN
BEGIN:VEVENT
UID:sabre-vobject-9d49bd2c-4bb5-47f5-83f9-eda7e53d20dc
DTSTAMP:20260425T145021Z
SUMMARY:Gladiator Valerius
DTSTART;TZID=Europe/Berlin:20260425T000000
ORGANIZER;CN=Trier Tourismus und Marketing GmbH:MAILTO:info@trier-info.de
LOCATION:Amphitheater Trier\, Trier
GEO:49.7495739;6.633381
DESCRIPTION:\nRund 1800 Jahre sind vergangen\, seit Valerius das \nletzte M
 al im Amphitheater um sein Leben kämpfen musste. Von einem Leben\n in Ruh
 m und Reichtum hatte er geträumt\, wohl wissend\, dass nur wenige \nGladi
 atoren diesen Aufstieg erreichen können. Als Arenakämpfer fristen \nsie 
 ein Leben am untersten Rand der Gesellschaft.\n                           
                                      \n                        Man bewunde
 rt ihren Mut \nund ihren Kampfeswillen\, verachtet sie jedoch zugleich als
  Unfreie\, die \nihren dürftigen Lebensunterhalt mit harter körperlicher
  Arbeit im Staub \ndes Amphitheaters verdienen müssen.  Nur wenigen geli
 ngt es zu überleben\n und sich freizukaufen. Überlebt hat Valerius. Doch
  um welchen Preis? \nBeim Gang durch das Amphitheater rekapituliert er all
  das Leid\, das er \ngesehen\, all das Blut\, das er selbst vergossen hat.
  Er folgt den Spuren \nder Tiere\, der Kämpfer\, der Freunde\, die im gew
 altigen Rund der Arena \nihr Leben gelassen haben. Und er erzählt von dem
  Tag\, der ihm bis heute \nkeine Ruhe lässt: der Tag\, an dem er im Amphi
 theater seinem besten \nFreund gegenüberstand.\n\nSchockiert wie beeindru
 ckt taucht der \nBesucher in dieser spannenden Erlebnisführung in eine Pa
 rallelwelt ein\, \nin eine längst vergangene Epoche\, die weit weg zu sei
 n scheint. Und doch\n hält ihm Valerius den Spiegel vor: Wie viel von dem
  Kampf um Leben und \nTod\, von dem inneren Kampf zwischen Überlebenswill
 e und Moral\, von dem \nWettstreit um Macht und Ehre hat sich bis in unser
 e Zeit gerettet? Und \nwie viel Valerius steckt in uns allen? Urteilen Sie
  selbst!\nHinweise:\nWir empfehlen diese Erlebnisführung für Zuschauer a
 b ca. 10 Jahren.\n\nDie unterirdischen Gänge sind für Rollstuhlfahrer ni
 cht erreichbar. Wir möchten Sie darauf hinweisen\, dass es sich um eine \
 nOutdoor-Veranstaltung handelt. Bitte passen Sie Ihre Kleidung den \nWitte
 rungsverhältnissen an.\nErlebnisführung
BEGIN:VALARM
TRIGGER;VALUE=DURATION:P1D
ACTION:DISPLAY
DESCRIPTION:Gladiator Valerius
END:VALARM
END:VEVENT
END:VCALENDAR
