BEGIN:VCALENDAR
VERSION:2.0
PRODID:-//Sabre//Sabre VObject 4.5.7//EN
CALSCALE:GREGORIAN
BEGIN:VEVENT
UID:sabre-vobject-c529ff64-cd8c-4e13-bb64-87c47a5a8b5d
DTSTAMP:20260420T102830Z
SUMMARY:Gondelfahrten zu den Pyramiden
DTSTART;TZID=Europe/Berlin:20260510T110000
DTEND;TZID=Europe/Berlin:20260510T120000
ORGANIZER;CN=Stiftung Fürst-Pückler-Museum Park und Schloss Branitz:MAILT
 O:info@pueckler-museum.de
LOCATION:Fürst Pückler Museum Park & Schloss Branitz\, Robinienweg 5\, Co
 ttbus (Branitz)
GEO:51.7422029;14.3729657
DESCRIPTION:\nAuf den von Fürst Pückler angelegten Wasserwegen gleitet ma
 n durch die einmalige Branitzer Parklandschaft\, erlebt ungewohnte Perspek
 tiven und kommt dem Tumulus \, der Wasser- und Grabpyramide des Fürstenpa
 ares\, ganz nah.
BEGIN:VALARM
TRIGGER;VALUE=DURATION:P1D
ACTION:DISPLAY
DESCRIPTION:Gondelfahrten zu den Pyramiden
END:VALARM
END:VEVENT
END:VCALENDAR
