BEGIN:VCALENDAR
VERSION:2.0
PRODID:-//Sabre//Sabre VObject 4.5.7//EN
CALSCALE:GREGORIAN
BEGIN:VEVENT
UID:sabre-vobject-568995a2-c1e0-4307-a954-091bfc6f8b39
DTSTAMP:20260420T113130Z
SUMMARY:JGA Hamburg mit TittenTinas Partytour
DTSTART;TZID=Europe/Berlin:20260515T210000
ORGANIZER;CN="Treffpunkt: McDonalds Reeperbahn":MAILTO:no-reply@termine-reg
 ional.de
LOCATION:Treffpunkt: McDonalds Reeperbahn\, Reeperbahn 56\, Hamburg (Hambur
 g-Mitte)
GEO:53.5498105;9.9636048
DESCRIPTION:JGA Hamburg mit TittenTinas Partytour
BEGIN:VALARM
TRIGGER;VALUE=DURATION:P1D
ACTION:DISPLAY
DESCRIPTION:JGA Hamburg mit TittenTinas Partytour
END:VALARM
END:VEVENT
END:VCALENDAR
