BEGIN:VCALENDAR
VERSION:2.0
PRODID:-//Sabre//Sabre VObject 4.5.7//EN
CALSCALE:GREGORIAN
BEGIN:VEVENT
UID:sabre-vobject-58f91e76-fc0e-42b6-8c80-e57e9d69d556
DTSTAMP:20260420T102545Z
SUMMARY:Klangkunst - Konzert in St. Marien
DTSTART;TZID=Europe/Berlin:20260418T000000
ORGANIZER;CN=Förderkreis Kirchenmusik St. Marien-Rachtig:MAILTO:martha_elt
 ges@web.de
LOCATION:Kirche St. Marien\, Marienstraße\, Zeltingen-Rachtig
GEO:49.9527669;7.0151565
DESCRIPTION:\nKonzert für Trompete\, Querflöte und Orgel.\nThomas Maur\, 
 Neuwied\, Gerda Koppelkamm-Martini\, Zeltingen\, Berthold Botzet\, Aachen\
 nEintritt frei - Spenden willkommen\nKonzert für Trompete\, Querflöte un
 d Orgel in St. Marien in Rachtig
BEGIN:VALARM
TRIGGER;VALUE=DURATION:P1D
ACTION:DISPLAY
DESCRIPTION:Klangkunst - Konzert in St. Marien
END:VALARM
END:VEVENT
END:VCALENDAR
