BEGIN:VCALENDAR
VERSION:2.0
PRODID:-//Sabre//Sabre VObject 4.5.7//EN
CALSCALE:GREGORIAN
BEGIN:VEVENT
UID:sabre-vobject-5e638903-9403-4d7f-8e8f-030cacbabe08
DTSTAMP:20260420T114405Z
SUMMARY:Konzert im Kulturhof Lübbenau: River Lucifer
DTSTART;TZID=Europe/Berlin:20260515T210000
DTEND;TZID=Europe/Berlin:20260515T230000
ORGANIZER;CN=Kulturhof Lübbenau e.V.:MAILTO:info@kulturhof-luebbenau.de
LOCATION:Kulturhof Lübbenau e.V.\, Güterbahnhofstraße 60\, Lübbenau/Spr
 eewald
GEO:51.861395;13.9605201
DESCRIPTION:\n"River Lucifer" aus Schweden entführen uns in düstere Klang
 welten. Das Projekt\, 2023 ins Leben gerufen\, vereint die kreativen Kräf
 te von Snicken (Stonewall Noise Orchestra) und dem ehemaligen Stonewall No
 ise Orchestra-Sänger Singe. **"** River Lucifer" präsentieren ein eindru
 cksvolles Werk\, das in die Tiefen von Pop\, Rock\, Blues und Gospel einta
 ucht. Die nahtlose Zusammenarbeit zwischen Snicken und Singe spiegelt sich
  in den harmonischen Songs wider. Die Songs berühren schmerzhafte Themen\
 , vermitteln aber auch einen Hauch von Optimismus. Stilistisch gesehen sin
 d die Jungs wohl im falschen Land geboren\, denn wenn zwei Schweden besser
 en Blues und Country hervorbringen als manche Interpreten aus den Staaten\
 , dann will es was heißen. Die Songs kommen Rockig\, Bluesbetont und teil
 weise mit einer Melancholie daher\, dass es mir schwerfällt einen Song al
 s Favoriten hervorzuheben. Es sind Ursprünge ihrer Vorbilder oder anders 
 gesagt Anleihen und Inspirationen in vielen Songs wahrzunehmen.\n\n[www.fa
 cebook.com/p/River-Lucifer](https://deref-gmx.net/mail/client/Rw0pa_fMzto/
 dereferrer/?redirectUrl=http%3A%2F%2Fwww.facebook.com%2Fp%2FRiver-Lucifer)
BEGIN:VALARM
TRIGGER;VALUE=DURATION:P1D
ACTION:DISPLAY
DESCRIPTION:Konzert im Kulturhof Lübbenau: River Lucifer
END:VALARM
END:VEVENT
END:VCALENDAR
