BEGIN:VCALENDAR
VERSION:2.0
PRODID:-//Sabre//Sabre VObject 4.5.7//EN
CALSCALE:GREGORIAN
BEGIN:VEVENT
UID:sabre-vobject-f680ad7c-0825-4960-8f06-53cdcf302936
DTSTAMP:20260420T114020Z
SUMMARY:Nachtwächter-Rundgang "Licht aus - Laterne an"
DTSTART;TZID=Europe/Berlin:20260515T211500
DTEND;TZID=Europe/Berlin:20260515T231500
ORGANIZER;CN=Frank Selbitz:MAILTO:post@spreewaldnachtwaechter.de
LOCATION:Rathaus Lübben (Spreewald)\, Poststraße 5\, Lübben (Spreewald)
GEO:51.9423062;13.8963285
DESCRIPTION:\nUm "13 nach NEUN" heißt es "Licht aus - Laterne an": Gehen S
 ie auf Tour mit dem Nachtwächter vom Marktplatz\, vorbei am Ständehaus u
 nd Schloss\, zurück durch den Napoleonbogen und Hinter der Mauer entlang.
  Erfahren Sie dabei Wissenswertes zur Historie und Neues aus Stadt und Lan
 d\, wie es sich zugetragen haben könnte ...
BEGIN:VALARM
TRIGGER;VALUE=DURATION:P1D
ACTION:DISPLAY
DESCRIPTION:Nachtwächter-Rundgang "Licht aus - Laterne an"
END:VALARM
END:VEVENT
END:VCALENDAR
