BEGIN:VCALENDAR
VERSION:2.0
PRODID:-//Sabre//Sabre VObject 4.5.7//EN
CALSCALE:GREGORIAN
BEGIN:VEVENT
UID:sabre-vobject-3f17061f-f9e3-4a65-b3c7-4cb419d64f4b
DTSTAMP:20260424T150125Z
SUMMARY:Open-Air-Ausstellung - Fürstin Lucie Pückler in Branitz
DTSTART;TZID=Europe/Berlin:20260424T000000
DTEND;TZID=Europe/Berlin:20260425T000000
ORGANIZER;CN=Stiftung Fürst-Pückler-Museum Park und Schloss Branitz:MAILT
 O:info@pueckler-museum.de
LOCATION:Fürst Pückler Museum Park & Schloss Branitz\, Robinienweg 5\, Co
 ttbus (Branitz)
GEO:51.7422029;14.3729657
DESCRIPTION:\nAnlässlich des 250. Geburtstags der Fürstin Pückler am 9. 
 April steht ihr Wirken in und für Branitz im Fokus. Die Open-Air-Ausstell
 ung an fünf Stationen gibt Einblicke in die Anfangsjahre der Parkanlage\,
  informiert über die ersten Umbauten am Schloss und die Grundlagen für d
 as Traumreich Branitz\, die die kluge und erfahrene Fürstin in ihren letz
 ten Lebensjahren schuf.
BEGIN:VALARM
TRIGGER;VALUE=DURATION:P1D
ACTION:DISPLAY
DESCRIPTION:Open-Air-Ausstellung - Fürstin Lucie Pückler in Branitz
END:VALARM
END:VEVENT
END:VCALENDAR
