BEGIN:VCALENDAR
VERSION:2.0
PRODID:-//Sabre//Sabre VObject 4.5.7//EN
CALSCALE:GREGORIAN
BEGIN:VEVENT
UID:sabre-vobject-c9a888cf-98b0-46ad-ad24-f376002187af
DTSTAMP:20260420T100417Z
SUMMARY:Rapsblütenfest 2026
DTSTART;TZID=Europe/Berlin:20260510T110000
DTEND;TZID=Europe/Berlin:20260510T180000
ORGANIZER;CN=Dorfzentrum Petersdorf:MAILTO:no-reply@termine-regional.de
LOCATION:Dorfzentrum Petersdorf\, Am Großsoll \, Fehmarn (Petersdorf)
GEO:54.4804718;11.0718352
DESCRIPTION:\nRapsblütenfest in Petersdorf \n\nGelb ist die Trendfarbe im 
 Mai und auch die Insel ist zu dieser Zeit in ein gelbes Frühlingskleid ge
 hüllt. Wir verspüren jetzt schon etwas Rapsblütenfest-Laune und freuen 
 uns auf die "fünfte Jahreszeit" auf der Sonneninsel Fehmarn. Viel Trubel 
 ringsum den Petersdorfer Dorfteich\, Stände die zum Bummeln einladen\, ve
 rschiedenste Königshäuser aus dem ganzen Bundesgebiet\, der große Festu
 mzug und an allen drei Tagen musikalisch ordentlich was auf die Ohren - al
 l das erwartet euch vom 08. - 10.05.2026 beim Rapsblütenfest in Petersdor
 f. Seid ihr mit dabei?
BEGIN:VALARM
TRIGGER;VALUE=DURATION:P1D
ACTION:DISPLAY
DESCRIPTION:Rapsblütenfest 2026
END:VALARM
END:VEVENT
END:VCALENDAR
