BEGIN:VCALENDAR
VERSION:2.0
PRODID:-//Sabre//Sabre VObject 4.5.7//EN
CALSCALE:GREGORIAN
BEGIN:VEVENT
UID:sabre-vobject-e04a9555-1f47-441d-94f1-250d87ecc278
DTSTAMP:20260425T151012Z
SUMMARY:Schiffs- und Planwagenfahrt 2 (nachmittags)
DTSTART;TZID=Europe/Berlin:20260425T000000
ORGANIZER;CN=Reiseservice Siweris GmbH:MAILTO:reiseservice-siweris@t-online
 .de
LOCATION:Anlegestelle Fa. Kolb\, Cochem
GEO:50.1474123;7.1701755
DESCRIPTION:\nDie Verbindliche Zusage und schriftliche Bestätigung erhalte
 n Sie vom Reiseservice Siweris\, sobald die Mindestteilnehmerzahl erreicht
  ist.\nFrage: Können Schwangere an der Fahrt Teilnehmen?\nAntwort: vom Ve
 ranstalter nicht empfohlen nur auf eigene Verantwortung auf Grund von Ersc
 hütterungen während der Fahrt\nKOMBITICKET SCHIFFS- & PLANWAGENFAHRT 2 
 (nachmittags)\n\nDie Mosel einmal ganz anders erleben .... \nLEISTUNG\n40-
 minütige Schifffahrt von Cochem in einen schönen Moselort\nMittagessen i
 m Weingut: Spießbraten mit Kartoffelsalat\, Vegetarische Variante mögli
 ch (Bei Terminen am Vormittag findet das Essen nach der Planwagenfahrt sta
 tt\, bei Terminen nachmittags davor)\nPlanwagenfahrt mit dem Traktor durch
  die Weinberge\nWeinverkostung auf dem Planwagen ca. 5 Gläschen\nTischget
 ränke während dem Mittagessen im Weingut enthalten (Wein\, Wasser\, Cola
 \, Limo)\n45-minütige Schifffahrt zurück nach Cochem\n\nPreis pro Person
 : 89\,00 EUR\nKinder von 4 – 12 Jahren zahlen die Hälfte\nUHRZEITEN\n\n
 ab/bis Cochem: 13:00 - 18:15 Uhr\nTERMINE\n\nEnde April - Ende Oktober Mi.
  /Sa.\nPROGRAMMABLAUF\n\nSie starten Ihre Tour an der Schiffsagentur Gebr.
  Kolb in Cochem an der Moselpromenade.\n\nEine traumhafte Schifffahrt von 
 Cochem in ein gemütliches Moseldörfchen erwartet Sie! Dort angekommen\, 
 starten Sie zu einer abenteuerlustigen Planwagenfahrt. Während der Winzer
  reinen Wein einschenkt und seine Tipps rund um das Thema Wein und Weinanb
 au verrät\, fahren Sie mit dem Traktor entspannt durch die Weinberge. Zur
 ück im Weingut\, wird Ihnen ein deftiger Spießbraten mit Kartoffelsalat 
 in der urigen Weinstube serviert. Während des Essens sind die Tischgeträ
 nke enthalten. Mit dem Schiff geht es dann schließlich wieder zurück zum
  Ausgangspunkt Ihrer idyllischen Reise. Lassen Sie sich von der Landschaft
  verzaubern und genießen Sie die Magie der Weinberge!\nTEILNAHMEBEDINGUNG
 EN\n\nNicht für Personen geeignet\, die schwanger oder stark gehbehindert
  sind.\nDAUER DES AUSFLUGES \n\nDie Gesamtdauer des Ausflugs beträgt zwis
 chen 4 und 5 Stunden.\nWETTER\n\nDer Ausflug findet bei jeder Wetterlage s
 tatt.\nEs gelten die Stornobedingungen des Reiseservice Siweris GmbH.\nNac
 h Buchung erhalten Sie vom Reiseveranstalter eine separate E-Mail mit den 
 Zahlungskonditionen. Der Betrag muss vor Inanspruchnahme der Leistung an d
 en Veranstalter gezahlt werden.
BEGIN:VALARM
TRIGGER;VALUE=DURATION:P1D
ACTION:DISPLAY
DESCRIPTION:Schiffs- und Planwagenfahrt 2 (nachmittags)
END:VALARM
END:VEVENT
END:VCALENDAR
