BEGIN:VCALENDAR
VERSION:2.0
PRODID:-//Sabre//Sabre VObject 4.5.7//EN
CALSCALE:GREGORIAN
BEGIN:VEVENT
UID:sabre-vobject-edd57ee9-dcea-483e-be7e-888499d6e4fd
DTSTAMP:20260424T174028Z
SUMMARY:Schools Out im YouZe
DTSTART;TZID=Europe/Berlin:20250702T103000
DTEND;TZID=Europe/Berlin:20250702T153000
ORGANIZER;CN=YouZe Jugendzentrum Soltau:MAILTO:no-reply@termine-regional.de
LOCATION:YouZe Jugendzentrum Soltau\, Scheibenstraße 12\, Soltau
GEO:52.9900422;9.8391222
DESCRIPTION:\nDas Schuljahr 2024/25 ist geschafft und euer fleißiges Lerne
 n in den letzten Monaten soll belohnt werden! Zur Feier des Tages gibt es 
 Slush-Eis\, Musik und ganz viel gute Laune!\n\nEinfach vorbeikommen & abh
 ängen! Für alle Kids & Teens ab 6 Jahren im YouZe.
BEGIN:VALARM
TRIGGER;VALUE=DURATION:P1D
ACTION:DISPLAY
DESCRIPTION:Schools Out im YouZe
END:VALARM
END:VEVENT
END:VCALENDAR
