BEGIN:VCALENDAR
VERSION:2.0
PRODID:-//Sabre//Sabre VObject 4.5.7//EN
CALSCALE:GREGORIAN
BEGIN:VEVENT
UID:sabre-vobject-1ec074dc-c22b-44f9-9560-98e1ee10659a
DTSTAMP:20260425T144855Z
SUMMARY:Sinnlich unterwegs im Parcours der Sinne - NATUR AKTIV ERLEBEN
DTSTART;TZID=Europe/Berlin:20260425T000000
ORGANIZER;CN=Gästeführungen Doris Hamm:MAILTO:doris.hamm@mail.de
LOCATION:Parkplatz Sportplatz\, Brunnenstr.\, Immerath\, Immerath
GEO:50.1311184;6.9564796
DESCRIPTION:\nAnmeldung und Inforamtionen: Doris Hamm\, Mobil: 0179 5906315
 \, E-Mail: doris.hamm@mail.de\nFestes Schuhwerk und wettergerechte Kleidun
 g werden empfohlen. Die Strecke eignet sich für Kinderwagen und Rollstuhl
 fahrer.\n\nDieses Angebot kann nach Absprache auch für Gruppen an anderen
  Terminen gebucht werden.\nDie Strecke eignet sich für Kinderwagen und Ro
 llstuhlfahrer.\nDie Stationen sind für Rollstuhlfahrer und Gehbehinderte 
 nur bedingt geeignet.\n„Sinnlich unterwegs – komm mit auf Entdeckungsr
 eise“\nDoris Hamm\, zertifizierte Gästeführerin des GesundLand Vulkane
 ifel\, begleitet auf einer faszinierenden Expedition: An 12 von 15 Station
 en des Parcours der Sinne werden erstaunliche Erlebnisse geboten. Auf der 
 Balanceplattform wird der Gleichgewichtssinn herausgefordert und die Partn
 erschaukel schwingt in schwindelerregende Höhen. Bei den besonderen Sinne
 serlebnissen dieser Tour können die Wunder unserer Sinne an verschiedenen
  Stationen neu erkundet und erlebt werden.\n\nParcoursführerin: Doris Ham
 m \nDauer: ca. 2\,5 - 3 Stunden \nPreis: 10 EUR pro Person\, 4 - 14-jä
 hrige 5 EUR - Kitas und Schulen erhalten einen Sonderpreis\nTreffpunkt: Sp
 ortplatz\, Brunnenstr.\, 54552 Immerath\nMindestens 4 Erwachsene\, maximal
  12 Teilnehmer\n\nSprache: Deutsch\n\nUnbedingt an feste\, geschlossene Sc
 huhe und wetterangepasste Kleidung\, Kopfbedeckung sowie Sonnenschutz denk
 en.\nInformation und Anmeldung erforderlich bis spätestens 08:30 Uhr am j
 eweiligen Tag\nDoris Hamm\nTel.: 0179 5906315 \nE-Mail: doris.hamm@mail.de
 \n\nDieses Angebot kann nach Absprache auch für Gruppen an anderen Termin
 en gebucht werden.\nPreis pro Person 10 EUR\nKinder 4-14 Jahre 5 EUR\nSehe
 n\, hören\, fühlen\, riechen\, balancieren und empfinden
BEGIN:VALARM
TRIGGER;VALUE=DURATION:P1D
ACTION:DISPLAY
DESCRIPTION:Sinnlich unterwegs im Parcours der Sinne - NATUR AKTIV ERLEBEN
END:VALARM
END:VEVENT
END:VCALENDAR
