BEGIN:VCALENDAR
VERSION:2.0
PRODID:-//Sabre//Sabre VObject 4.5.7//EN
CALSCALE:GREGORIAN
BEGIN:VEVENT
UID:sabre-vobject-a4259b1f-2dd6-4ebb-bb2e-58fea19d18d6
DTSTAMP:20260420T091059Z
SUMMARY:SONNTAGS SPECIAL - Fülle und Dankbarkeit
DTSTART;TZID=Europe/Berlin:20260823T093000
DTEND;TZID=Europe/Berlin:20260823T110000
ORGANIZER;CN=Seelenlauscherei:MAILTO:no-reply@termine-regional.de
LOCATION:Seelenlauscherei\, Strandallee 12 - 14\, Neustadt in Holstein (Pel
 zerhaken)
GEO:54.0894002;10.8588286
DESCRIPTION:\nYin Yoga mit Klangschalen am Strand - \ninkl. Gurken-Himbeer-
 Smoothie\n\nBeim "SONNTAG SPECIAL" - Yin Yoga mit Klangschalen am Strand w
 erden wir durch Achtsamkeit und Selbstwahrnehmung zur Ruhe kommen\, um Kö
 rper\, Geist und Seele zu regenerieren.\n\nWährenddessen wird Dir eine Kl
 angschale auf verschiedene Körperbereiche aufgelegt\, um Dich mit wunderv
 ollen Klängen und sanften Schwingungen noch tiefer in die Entspannung zu 
 bringen.\nYin Yoga ist eine meditative Yogapraxis\, bei der die sanft prak
 tizierten Asanas passiv eingenommen werden und für längere Zeit gehalten
  werden\, um körperlich und geistig beweglich bleiben. Dadurch werden das
  Bindegewebe angesprochen und die Meridianbahnen aktiviert. Durch das sanf
 te und passive Dehnen lösen wir tief sitzende Verklebungen in unserem Fas
 zien-Gewebe.\n\nYin Yoga wird bewusst ohne aktive Muskulatur ausgeführt\,
  so dass Du Dich nur so weit in die Positionen einsinken lässt\, wie die 
 Knochen es zulassen. Dadurch ist Yin Yoga sanft\, aber trotzdem effektiv u
 nd somit für jeden geeignet.\n\n90minütiger Kurs. 25\,00 EUR/ Person.\nI
 nkl. Gurken-Himbeer-Smoothie.\nMit Jessica. Treffpunkt spätestens 9:20 Uh
 r VOR der Seelenlauscherei\, wir gehen gemeinsam zum Strand!\nBuchung übe
 r den Online-Kursplan:\nhttps://www.seelenlauscherei.de/kursplan\nTel.: +4
 9 (4561) 52 55 870\nEmail: info@seelenlauscherei.de ~ www.seelenlauscherei
 .de
BEGIN:VALARM
TRIGGER;VALUE=DURATION:P1D
ACTION:DISPLAY
DESCRIPTION:SONNTAGS SPECIAL - Fülle und Dankbarkeit
END:VALARM
END:VEVENT
END:VCALENDAR
