BEGIN:VCALENDAR
VERSION:2.0
PRODID:-//Sabre//Sabre VObject 4.5.7//EN
CALSCALE:GREGORIAN
BEGIN:VEVENT
UID:sabre-vobject-1e3dfec8-1232-4bc9-be63-e42a6678e2d4
DTSTAMP:20260420T114734Z
SUMMARY:Sternstunden
DTSTART;TZID=Europe/Berlin:20260515T210000
DTEND;TZID=Europe/Berlin:20260515T230000
ORGANIZER;CN=Ev.-Luth. Kirchengemeinde St. Marien Lübeck:MAILTO:no-reply@t
 ermine-regional.de
LOCATION:St. Marienkirche Lübeck\, Marienkirchhof 1\, Lübeck (Lübecker A
 ltstadt)
GEO:53.8678015;10.6850162
DESCRIPTION:\nSt. Marien lädt die Nachtschwärmer:innen unter dem Titel "S
 ternstunde" in den Erlebnisraum Kathedrale ein.\n\nSinne und Geist - erleb
 e Dich und mache Erfahrungen mit dem Raum und dem\, was gut tut.\n\nDie Ma
 rienkirche als mittelalterliche\, gotische Basilika führt die Besucherinn
 en und Besucher ausgehend von der Blütezeit der Lübecker Hanse über Ren
 aissance und Barock\, über den 2. Weltkrieg bis in die Gegenwart. Sie bir
 gt einen kostbaren Schatz von Baukunst und Kunstwerken\, die die Entwicklu
 ng der sakralen Kunst vom 13. bis zum 21. Jahrhundert dokumentieren und zu
 r eigenen Auseinandersetzung mit Vergangenheit und Gegenwart anregen.\n\n"
 Entdecken Sie dieses Geheimnis!"\, so Pastor Robert Pfeifer. "Erleben Sie 
 den Kirchenraum und seine oft versteckte Symbolik einmal ganz anders. An a
 usgewählten Stationen der Kirche erschließen wir theologische\, ikonogra
 phische und kunstgeschichtliche Hintergründe und erleben den nächtlichen
  Kirchenraum in seiner spirituellen und mystischen Dimension."\n\nPastor R
 obert Pfeifer und sein Team\, mit musikalischer Begleitung.
BEGIN:VALARM
TRIGGER;VALUE=DURATION:P1D
ACTION:DISPLAY
DESCRIPTION:Sternstunden
END:VALARM
END:VEVENT
END:VCALENDAR
