BEGIN:VCALENDAR
VERSION:2.0
PRODID:-//Sabre//Sabre VObject 4.5.7//EN
CALSCALE:GREGORIAN
BEGIN:VEVENT
UID:sabre-vobject-ade54900-c62c-4763-8e10-78a8539e5e2d
DTSTAMP:20260420T115307Z
SUMMARY:Sternstunden - Erlebnisraum Kathedrale für Nachtschwärmer:innen
DTSTART;TZID=Europe/Berlin:20260515T210000
DTEND;TZID=Europe/Berlin:20260515T230000
ORGANIZER;CN=Ev.-Luth. Kirchengemeindeverband Innenstadt Lübeck:MAILTO:no-
 reply@termine-regional.de
LOCATION:St. Marien\, Marienkirchhof 1\, Lübeck
GEO:53.8678015;10.6850162
DESCRIPTION:St. Marien lädt die Nachtschwärmer:innen unter dem Titel "Ste
 rnstunde" in den Erlebnisraum Kathedrale ein.\nSinne und Geist - erlebe Di
 ch und mache Erfahrungen mit dem Raum und dem\, was gut tut.Die Marienkirc
 he als mittelalterliche\, gotische Basilika führt die Besucherinnen und B
 esucher ausgehend von der Blütezeit der Lübecker Hanse über Renaissance
  und Barock\, über den 2. Weltkrieg bis in die Gegenwart. Sie birgt einen
  kostbaren Schatz von Baukunst und Kunstwerken\, die die Entwicklung der s
 akralen Kunst vom 13. bis zum 21. Jahrhundert dokumentieren und zur eigene
 n Auseinandersetzung mit Vergangenheit und Gegenwart anregen."Entdecken Si
 e dieses Geheimnis!"\, so Pastor Robert Pfeifer. "Erleben Sie den Kirchenr
 aum und seine oft versteckte Symbolik einmal ganz anders. An ausgewählten
  Stationen der Kirche erschließen wir theologische\, ikonographische und 
 kunstgeschichtliche Hintergründe und erleben den nächtlichen Kirchenraum
  in seiner spirituellen und mystischen Dimension."Pastor Robert Pfeifer un
 d sein Team\, mit musikalischer Begleitung.&nbsp\;
BEGIN:VALARM
TRIGGER;VALUE=DURATION:P1D
ACTION:DISPLAY
DESCRIPTION:Sternstunden - Erlebnisraum Kathedrale für Nachtschwärmer:inn
 en
END:VALARM
END:VEVENT
END:VCALENDAR
