BEGIN:VCALENDAR
VERSION:2.0
PRODID:-//Sabre//Sabre VObject 4.5.7//EN
CALSCALE:GREGORIAN
BEGIN:VEVENT
UID:sabre-vobject-ff1d2727-1040-468b-9725-78c17a7cc6ea
DTSTAMP:20260425T151001Z
SUMMARY:Wochenmarkt Mölln
DTSTART;TZID=Europe/Berlin:20260425T070000
DTEND;TZID=Europe/Berlin:20260425T130000
ORGANIZER;CN=Parkplatz Kreissparkasse Mölln:MAILTO:no-reply@termine-region
 al.de
LOCATION:Parkplatz Kreissparkasse Mölln\, Bergstraße \, Mölln
GEO:53.6267762;10.688194
DESCRIPTION:\nGenieße die Vielfalt und Frische des Angebotes\n\nEinmal in 
 der Woche findet der Wochenmarkt in der Eulenspiegelstadt Mölln statt. Re
 gionale Produkte\, knackiges Gemüse\, saftiges Obst\, frische Blumen\, Pf
 lanzen\, Back- und herzhafte Wurstwaren werden auf dem kleinen\, aber fein
 en Markt gehandelt. Saisonale Produkte wie z.B. der heimische Spargel und 
 Erdbeeren aus dem Möllner Umland sind ebenfalls zu finden. Einen kleinen 
 Klönschnack gibt es selbstverständlich gratis dazu.
BEGIN:VALARM
TRIGGER;VALUE=DURATION:P1D
ACTION:DISPLAY
DESCRIPTION:Wochenmarkt Mölln
END:VALARM
END:VEVENT
END:VCALENDAR
