BEGIN:VCALENDAR
VERSION:2.0
PRODID:-//Sabre//Sabre VObject 4.5.7//EN
CALSCALE:GREGORIAN
BEGIN:VEVENT
UID:sabre-vobject-d25036ba-9f41-4abd-a789-10d021efa416
DTSTAMP:20260420T085009Z
SUMMARY:17. WindArt 2025 in Travemünde
DTSTART;TZID=Europe/Berlin:20250909T080000
ORGANIZER;CN=verschiedene Spielstätten in Travemünde:MAILTO:no-reply@term
 ine-regional.de
LOCATION:verschiedene Spielstätten in Travemünde\, Vorderreihe \, Lübeck
  (Travemünde)
GEO:53.9575645;10.8706951
DESCRIPTION:\nFolge bei deinem Spaziergang durch das Seebad dem Skulpturenp
 fad vom Fischereihafen bis zum Strand! * kunst-kultur-travemuende.deDer Wi
 nd als tragendes Element für bewegte Bauelemente und Kunst im Freien\, ve
 rbunden mit Licht- und Sound-Effekten\, für Spiele und kunstvolle Bewegun
 gsabläufe. Innovative Windspiele an verschiedenen Plätzen in Travemünde
  schaffen Orte der Entdeckung\, des Erholens und des Staunens. Tipp: Folge
  bei einem Spaziergang durch das Seebad dem WindArt-Skulpturen Walk entlan
 g unserer Promenaden! Vom Fischereihafen über den Fährplatz bis zum Möv
 enstein und am Kohlenhofkai auf der Priwallpromenade sind\, überwiegend k
 inetische\, Objekte bekannter Künstler:innen installiert\, die du in ihre
 m Zusammenspiel von Licht\, Wasser\, Wellen und Wind ganzjährig bewundern
  kannst. Alle Skulpturen wurden vom Verein für Kunst und Kultur zu Travem
 ünde e. V. im öffentlichen Raum installiert und sind frei zugänglich. S
 chon entdeckt? Die Objekte sind mit Hinweisschildern versehen. So kannst d
 u über einen QR Code umfangreiche Informationen zu Skulpturen und Künstl
 er:innen abrufen! Termine: 10. Mai bis 3. Oktober 2025 Ausstellung im Seeb
 ad täglich ganztägig  Programm WindArt 2025\, Lageplan\, Infos zu den Ob
 jekten und mehr: kunst-kultur-travemuende.deVeranstalter: Verein für Kuns
 t und Kultur zu Travemünde e. V. Eintritt: frei Bild: WindArt Travemünde
 \, Blue Jack\, Copyright VKKT_Uli Berkemeier
BEGIN:VALARM
TRIGGER;VALUE=DURATION:P1D
ACTION:DISPLAY
DESCRIPTION:17. WindArt 2025 in Travemünde
END:VALARM
END:VEVENT
END:VCALENDAR
