BEGIN:VCALENDAR
VERSION:2.0
PRODID:-//Sabre//Sabre VObject 4.5.7//EN
CALSCALE:GREGORIAN
BEGIN:VEVENT
UID:sabre-vobject-340177ef-5cd7-47dd-b564-c1d2b04a4f60
DTSTAMP:20260420T085031Z
SUMMARY:Ausstellung: "Mit dem Feuer leben lernen".
DTSTART;TZID=Europe/Berlin:20250909T083000
DTEND;TZID=Europe/Berlin:20250909T160000
ORGANIZER;CN=Landkreis Lüchow-Dannenberg:MAILTO:no-reply@termine-regional.
 de
LOCATION:Kreishaus Lüchow\, Königsberger Straße 10\, Lüchow
GEO:52.9708968;11.154157
DESCRIPTION:\nEine neue Wanderausstellung macht Halt im Kreishaus Lüchow. 
 Sie zeichnet die Ereignisse der Waldbrandkatastrophe 1975 nach\, beleuchte
 t die Entwicklungen im Waldbrandmanagement der vergangenen Jahrzehnte und 
 wagt einen Ausblick auf anstehende Herausforderungen. Die Ausstellung ist 
 Teil des Projektes "Brandgefahr - Gedenk- und Aktionsjahr zur Waldbrandkat
 astrophe 1975" statt\; eine Kooperation von Museumsverbund Lüchow-Dannenb
 erg\, Landkreis Lüchow-Dannenberg und Hist. Feuerwehrmuseum Neu Tramm.\n\
 nWeitere Projektinfos unter:\n\nhttps://www.luechow-dannenberg.de/mit-dem-
 feuer-leben-lernen\n\nÖffnungszeiten: Mo - Do 08:30 - 16 Uhr\, Fr 8:30 - 
 12:30 Uhr.
BEGIN:VALARM
TRIGGER;VALUE=DURATION:P1D
ACTION:DISPLAY
DESCRIPTION:Ausstellung: "Mit dem Feuer leben lernen".
END:VALARM
END:VEVENT
END:VCALENDAR
