BEGIN:VCALENDAR
VERSION:2.0
PRODID:-//Sabre//Sabre VObject 4.5.7//EN
CALSCALE:GREGORIAN
BEGIN:VEVENT
UID:sabre-vobject-3fd7196b-23b3-49ae-b590-4352afd9b728
DTSTAMP:20260420T083836Z
SUMMARY:Ausstellung: Rauchzeichen - als der Westen wild wurde - indigene Ku
 ltur und westlicher Konsum
DTSTART;TZID=Europe/Berlin:20250909T083000
DTEND;TZID=Europe/Berlin:20250909T180000
ORGANIZER;CN=Kantor-Helmke-Haus:MAILTO:no-reply@termine-regional.de
LOCATION:Kantor-Helmke-Haus\, Am Kirchhof 10\, Rotenburg (Wümme)
GEO:53.1085318;9.4055716
DESCRIPTION:\nErhard Czysty - Foto-Designer und ehemaliger Mitarbeiter der 
 Gesellschaft für bedrohte Völker\, Sektion: Kanada zeigt in der Ausstell
 ung "Rauchzeichen" neben indigener Kunst aus Nordamerika auch einen Blick 
 auf die amerikanische Geschichte sowie unser Konsum- und Naturverhalten au
 s Sicht der Indigenen. Bevor die ersten weißen Siedler kamen\, war das La
 nd in der Vorstellung der indigenen Völker keine Wildnis. Es war ihr Lebe
 nsraum mit Nahrung im Überfluss\, in dem sie furchtlos in unberührter Na
 tur mit zahllosen Tieren leben konnten. Erst als die Weißen aus dem Osten
  die Menschen mit Hass und Wut verfolgten und die Tiere aus den Wäldern f
 lohen\, fing für die indianischen Völker der "Wilde Westen" an.\n\nZur E
 röffnung der Ausstellung am 01. September ab 18.30 Uhr sind alle Interess
 ierten herzlich eingeladen.\n\nAusstellungsdauer: 01. September bis 30. Se
 ptember 2025\n\nFoyer im Kantor-Helmke-Haus\n\nÖffnungszeiten: Mo-Do\, 8.
 30-18.00 Uhr\, Fr und Sa\, 8.30-12.00\n\nRahmenprogramm zur Ausstellung\n\
 nVortrag von Erhard Czysty: Rauchzeichen und Realität - Der andere Blick 
 auf den Westen\n\nMontag\, 08.09.2025\, 19.00 Uhr\, Kantor-Helmke-Haus\n\n
 Eintritt: 6\,00 €\n\nVeranstalter: Volkshochschule Rotenburg (Wümme)
BEGIN:VALARM
TRIGGER;VALUE=DURATION:P1D
ACTION:DISPLAY
DESCRIPTION:Ausstellung: Rauchzeichen - als der Westen wild wurde - indigen
 e Kultur und westlicher Konsum
END:VALARM
END:VEVENT
END:VCALENDAR
