BEGIN:VCALENDAR
VERSION:2.0
PRODID:-//Sabre//Sabre VObject 4.5.7//EN
CALSCALE:GREGORIAN
BEGIN:VEVENT
UID:sabre-vobject-bbc5dcc3-1b6e-4f31-94e1-06067ff74de6
DTSTAMP:20260420T085426Z
SUMMARY:Doppelausstellung: Wenn das Eisen schweigt - Gesichter des Friedens
DTSTART;TZID=Europe/Berlin:20250909T090000
DTEND;TZID=Europe/Berlin:20250909T200000
ORGANIZER;CN=Volkshochschule Wedel:MAILTO:no-reply@termine-regional.de
LOCATION:VHS Wedel\, ABC-Straße 3\, Wedel
GEO:53.5730524;9.704906
DESCRIPTION:\nDoppelausstellung: Wenn das Eisen schweigt - Gesichter des Fr
 iedens\n\nWenn das Eisen schweigt\n\nMeine Malerei ist ein Zusammenprall v
 on Vergangenheit und Gegenwart\, Zerstörung und Hoffnung. Mit Öl und rea
 listischer Präzision zeige ich die greifbare Kälte zerstörter Maschinen
  - einst Symbole der Stärke\, nun Teil vergessener Landschaften. Im Schat
 ten des Krieges wächst fragiles Le ben. Kleine bunte Vögel sind mehr als
  Akzente - sie verkörpern stille Wi derstandskraft und die Rückeroberung
  durch die Natur. Selbst zwischen Ruinen gibt es Bewegung\, Atem und Licht
 . Ich romantisiere den Krieg nicht. Ich zeige\, was bleibt\, wenn alles ve
 rstummt. In der Asche entdecke ich Leben. (Oleksii Tykhonowski)\n\n10 Mens
 chen. Gesichter. Geschichten.\n\nFrieden ist mehr als die Abwesenheit von 
 Krieg. Er entsteht im täglichen Miteinander - durch Respekt\, Mitgefühl 
 und Engagement. Diese Ausstellung zeigt zehn Menschen\, die sich in versch
 iedenen Regionen der Welt auf ganz persönliche Weise für Frieden einsetz
 en.\n\nViele von ihnen haben Krieg erlebt\, mussten fliehen - und engagier
 en sich heute für ein friedliches Zusammenleben. Ihre Geschichten machen 
 deutlich\, wie jede*r von uns zum Umgang mit Konflikten beitragen kann.\n\
 nEinige der Porträtierten leben heute in Deutschland. Sie bringen Erfahru
 ngen\, Netzwerke und Perspektiven mit\, die unsere Gesellschaft bereichern
 . Ihre Geschichten laden zum Zuhören ein - und machen Mut\, selbst aktiv 
 zu werden.
BEGIN:VALARM
TRIGGER;VALUE=DURATION:P1D
ACTION:DISPLAY
DESCRIPTION:Doppelausstellung: Wenn das Eisen schweigt - Gesichter des Frie
 dens
END:VALARM
END:VEVENT
END:VCALENDAR
