BEGIN:VCALENDAR
VERSION:2.0
PRODID:-//Sabre//Sabre VObject 4.5.7//EN
CALSCALE:GREGORIAN
BEGIN:VEVENT
UID:sabre-vobject-f8cefdf8-1784-46ca-b861-de08a0d85191
DTSTAMP:20260420T101814Z
SUMMARY:Fotoausstellung der Pixelwerkstatt Soltau
DTSTART;TZID=Europe/Berlin:20260202T100000
DTEND;TZID=Europe/Berlin:20260202T180000
ORGANIZER;CN=felto - Filzwelt:MAILTO:no-reply@termine-regional.de
LOCATION:felto - Filzwelt\, Marktstraße 19\, Soltau
GEO:52.98526;9.84035
DESCRIPTION:\nDer Soltauer Fotoclub zeigt Fotos zum Thema Schwarz-Weiß Fot
 ografie in ihren Grauwertabstufungen\, zwischen Schwarz und Weiß.\n\nIm D
 achgeschoß des Aktivmuseums felto Filzwelt Soltau werden 60 Schwarz-Weiß
  Fotos auf großformatigen Leinwänden gezeigt.\n\nDie Fotoausstellung ist
  täglich\, auch Feiertags geöffnet\, der Eintritt ist frei.
BEGIN:VALARM
TRIGGER;VALUE=DURATION:P1D
ACTION:DISPLAY
DESCRIPTION:Fotoausstellung der Pixelwerkstatt Soltau
END:VALARM
END:VEVENT
END:VCALENDAR
