BEGIN:VCALENDAR
VERSION:2.0
PRODID:-//Sabre//Sabre VObject 4.5.7//EN
CALSCALE:GREGORIAN
BEGIN:VEVENT
UID:sabre-vobject-68cb1e97-4933-42db-ab3a-b178e720aa85
DTSTAMP:20260420T084349Z
SUMMARY:GLASPLASTIK UND GARTEN
DTSTART;TZID=Europe/Berlin:20250909T233000
DTEND;TZID=Europe/Berlin:20250909T233000
ORGANIZER;CN=Galerie an der Örtze:MAILTO:no-reply@termine-regional.de
LOCATION:Galerie an der Örtze\, Lüneburger Straße 9\, Munster
GEO:52.9862233;10.0916742
DESCRIPTION:\n13. Internationale Ausstellung\nMunster und Glas - das geht s
 eit 1996 richtig gut zusammen. Die Ausstellung ist seit 2010 eine Triennal
 e\, davor wurde sie alle zwei Jahre veranstaltet. Die öffentlichen Gärte
 n und Parks der Stadt bilden die Kulisse für die verschiedensten Kunstwer
 ke. Die Künstler\, die aus aller Welt kommen\, arbeiten sehr unterschiedl
 ich. Manchmal gibt es große\, ausladende Skulpturen zu sehen\, die auch a
 us Altglas bestehen können\, manchmal gibt es farbenfrohe figurative Plas
 tiken. Manche stehen auf den Wiesen\, manche hängen in Bäumen\, manche t
 reiben auf dem Wasser der Örtze. Immer wieder öffnen sich dem Besucher 
 überraschende Ausblicke.\n\nNeben den großen Plastiken\, die draußen pr
 äsentiert werden\, gibt es auch zahlreichen kleine Kunstwerke. Diese werd
 en zum einen in dem wunderschön hellen Saal der Stadtbücherei gezeigt un
 d zum anderen in der mittelalterlichen St. Urbani Kirche. Diese wird zu di
 esem Zweck ausgeräumt und so wird dort ein ganz besonderes Ambiente erzie
 lt.\n\nDie Galerie an der Örtze wird während der Ausstellung wieder als 
 "Zweigstelle" der Tourist Information geöffnet sein. Hier finden die Besu
 cherin und der Besucher alle Antworten auf ihre Fragen\, hier können Glas
 kunstwerke erworben werden oder auch ein kleines Mitbringsel.\n\nDirekt ne
 ben der Galerie befindet sich die Werkstatt\, die zumindest zeitweise wäh
 rend der Ausstellung betrieben wird. Dann kann man den Glasbläsern über 
 die Schultern schauen und vielleicht sogar selbst einmal tätig werden.\n\
 nWährend der Ausstellung wird es auch wieder Führungen durch den Ausstel
 lungsbereich und ein begleitendes Rahmenprogramm geben.\nDie ganze Stadt f
 reut sich auf diese besondere Zeit\, in der Munster Gäste und Künstler a
 us aller Welt beherbergt und "glänzt" wie die ausgestellten Kunstwerke!
BEGIN:VALARM
TRIGGER;VALUE=DURATION:P1D
ACTION:DISPLAY
DESCRIPTION:GLASPLASTIK UND GARTEN
END:VALARM
END:VEVENT
END:VCALENDAR
