BEGIN:VCALENDAR
VERSION:2.0
PRODID:-//Sabre//Sabre VObject 4.5.7//EN
CALSCALE:GREGORIAN
BEGIN:VEVENT
UID:sabre-vobject-845917d1-eb2e-4ed9-90ff-86932fcf1fd0
DTSTAMP:20260421T104929Z
SUMMARY:Kreativ-Messe
DTSTART;TZID=Europe/Berlin:20260301T093000
ORGANIZER;CN=Naturkundemuseum Niebüll:MAILTO:info@nkm-niebuell.de
LOCATION:Naturkundemuseum Niebüll\, Hauptstraße 108\, Niebüll
GEO:54.7817811;8.8217525
DESCRIPTION:Viele Stände mit Kreativmaterialien und Kursangeboten\nDu will
 st kreativ werden\, weißt aber nicht\, was dein neues Hobby werden soll? 
 Dann komm zur Kreativ-Messe! Viele Stände mit Kreativmaterialien und Kurs
 angeboten\, kostenlose Mitmachangebote\, Vorführung Motorsägenkunst u.v.
 m. \nWeitere Infos: www.nkm-niebuell.de/kreativ-messe
BEGIN:VALARM
TRIGGER;VALUE=DURATION:P1D
ACTION:DISPLAY
DESCRIPTION:Kreativ-Messe
END:VALARM
END:VEVENT
END:VCALENDAR
