BEGIN:VCALENDAR
VERSION:2.0
PRODID:-//Sabre//Sabre VObject 4.5.7//EN
CALSCALE:GREGORIAN
BEGIN:VEVENT
UID:sabre-vobject-79516949-9a43-4531-bb94-84afbe2365b6
DTSTAMP:20260420T083428Z
SUMMARY:Offenes Atelier-Workshops-Malkurse-Galerie
DTSTART;TZID=Europe/Berlin:20250909T090000
DTEND;TZID=Europe/Berlin:20250909T130000
ORGANIZER;CN=Atelier Sonja Knoop:MAILTO:no-reply@termine-regional.de
LOCATION:Atelier Sonja Knoop\, Burgstraße 15\, Neustadt in Holstein (Neust
 adt)
GEO:54.1077593;10.8116407
DESCRIPTION:\nKreative Auszeit in der inspirierenden Atmosphäre des geräu
 migen Ateliers der Malerin Sonja Knoop bei individuellen Workshops.\n\nTau
 ch' ein in die Welt der Künstlerin Sonja Knoop\, komm' in ihr geräumiges
  Atelier im Herzen von Neustadt\, schau' ihr bei ihrer freien Arbeit über
  die Schulter\, finde ein ausdrucksstarkes Unikat - von winzig bis giganti
 sch - oder lass' dich von ihrer Kreativität und der einmaligen Umgebung i
 nspirieren. Vereinbare gleich vor Ort einen Termin für deinen ganz indivi
 duellen Workshop zu Themen wie etwa Collagen\, Fluid Art\, Mixed Media\, R
 ost- und Patinaeffekte\, Rissbildungen\, StreetArt\, Spraying\, Transfer- 
 und Drucktechniken oder jeder Menge weiterer spannender Themen rund um die
  abstrakte Malerei - und erschaffe so dein ganz eigenes Kunstwerk.\n\nWork
 shops und Malkurse finden jederzeit nach vorheriger Absprache völlig unab
 hängig von den Öffnungszeiten des Ateliers statt.\nInfos und Vereinbarun
 g abweichender Besuchstermine unter: 0172-9375588
BEGIN:VALARM
TRIGGER;VALUE=DURATION:P1D
ACTION:DISPLAY
DESCRIPTION:Offenes Atelier-Workshops-Malkurse-Galerie
END:VALARM
END:VEVENT
END:VCALENDAR
