BEGIN:VCALENDAR
VERSION:2.0
PRODID:-//Sabre//Sabre VObject 4.5.7//EN
CALSCALE:GREGORIAN
BEGIN:VEVENT
UID:sabre-vobject-88d031e9-8643-496d-95fd-9d3310f7ba25
DTSTAMP:20260420T103537Z
SUMMARY:Respekt - Eine Ausstellung übers gemeinsam Verschiedensein
DTSTART;TZID=Europe/Berlin:20260202T100000
DTEND;TZID=Europe/Berlin:20260202T210000
ORGANIZER;CN=Stiftung Historische Museen Hamburg:MAILTO:no-reply@termine-re
 gional.de
LOCATION:Museum der Arbeit\, Wiesendamm 3\, Hamburg (Hamburg-Nord)
GEO:53.5860078;10.0474606
DESCRIPTION:\nDie von der DASA Arbeitswelt Ausstellung in Dortmund erarbeit
 ete Ausstellung Respekt. Eine Ausstellung übers gemeinsam Verschiedensein
  lädt vor allem Jugendliche dazu ein\, sich zentralen Fragen zu den Theme
 n Identität\, Diskriminierung und Gleichberechtigung anzunähern. Im Foku
 s steht der Austausch über einen respektvollen Umgang miteinander in der 
 Schule\, bei der Ausbildung und beim Berufseinstieg.\n\nIm Mittelpunkt ste
 hen dabei die Fragen danach\, wer man ist\, was einen ausmacht\, zu wem ma
 n gehört und zu was man gemacht wird. Dabei arbeitet die Ausstellung mit 
 einer Reihe von verschiedenen Vermittlungsformaten: kurze Texte\, Videocli
 ps und Grafiken werden mit spielerischen Angeboten\, Modulen zur Selbstbef
 ragung und Orten zum Debattieren kombiniert.\n\nRespekt bietet somit vor a
 llem Schulklassen und Jugendgruppen eine spannende Möglichkeit\, gemeinsa
 m außerhalb des Klassenzimmers in bunt-anregender Atmosphäre neue Gespr
 ächsimpulse zu erhalten und der Entstehung von Vorurteilen und diskrimini
 erendem Verhalten auf den Grund zu gehen. Dabei soll auch die Rolle von Sp
 rache im Umgang miteinander thematisiert werden. Bei einem Job-Speed-Datin
 g erfahren die Jugendlichen\, mit wie vielen Klischees die Vorstellungen v
 on der Berufswahl oft aufgeladen sind und auf einem Zeitstrahl können sie
  in die Vergangenheit reisen und Meilensteine in der Geschichte der Gleich
 berechtigung Jahren und Ereignissen zuordnen.
BEGIN:VALARM
TRIGGER;VALUE=DURATION:P1D
ACTION:DISPLAY
DESCRIPTION:Respekt - Eine Ausstellung übers gemeinsam Verschiedensein
END:VALARM
END:VEVENT
END:VCALENDAR
