BEGIN:VCALENDAR
VERSION:2.0
PRODID:-//Sabre//Sabre VObject 4.5.7//EN
CALSCALE:GREGORIAN
BEGIN:VEVENT
UID:sabre-vobject-6d7e7247-ad6d-4af0-be6e-86f1cde3d507
DTSTAMP:20260420T101835Z
SUMMARY:Riesenmurmelbahn in der Filzwelt
DTSTART;TZID=Europe/Berlin:20260202T100000
DTEND;TZID=Europe/Berlin:20260202T180000
ORGANIZER;CN=felto - Filzwelt:MAILTO:no-reply@termine-regional.de
LOCATION:felto - Filzwelt\, Marktstraße 19\, Soltau
GEO:52.98526;9.84035
DESCRIPTION:\nUnter dem Dach der Filzwelt rauschen Tausende von Murmeln gle
 ichzeitig über eine gut 30 Meter lange Riesenstrecke aus dem Murmiland. J
 edes der hölzernen Module wurde von Ortwin Grüttner gemeinsam mit Kinder
 n anders gestaltet: Da gibt es eine Bahnstation und einen Spielplatz\, ein
 en Pilzwald und ein Städtchen\, Klangstäbe und eine Baugrube\, durch die
  die Murmeln auf ein anderes Feld stürzen können. Eine Gabelung und ein 
 riesiger Trichter sorgen für zusätzliche Spannung im Wettrennen der klei
 nen Kugeln.\n\nVom vierten Adventswochenende bis zum 22. Februar täglich 
 von 10 bis 18 Uhr - einzige Ausnahme: Heilig Abend: 10 bis 13 Uhr.\n\nDie 
 Sonderaktion ist ohne Aufpreis im Filzwelteintritt enthalten\n\nJahreskart
 en und Kombikarten mit dem Spielmuseum erhältlich.
BEGIN:VALARM
TRIGGER;VALUE=DURATION:P1D
ACTION:DISPLAY
DESCRIPTION:Riesenmurmelbahn in der Filzwelt
END:VALARM
END:VEVENT
END:VCALENDAR
