BEGIN:VCALENDAR
VERSION:2.0
PRODID:-//Sabre//Sabre VObject 4.5.7//EN
CALSCALE:GREGORIAN
BEGIN:VEVENT
UID:sabre-vobject-e9ec8846-f1ea-47af-91d5-48ce734e2845
DTSTAMP:20260420T085247Z
SUMMARY:Tierschutz jetzt - Lass die Tiere nicht im Stich!
DTSTART;TZID=Europe/Berlin:20250909T080000
DTEND;TZID=Europe/Berlin:20250909T120000
ORGANIZER;CN=Rathaus Ahrensburg:MAILTO:no-reply@termine-regional.de
LOCATION:Rathaus Ahrensburg (Foyer)\, Manfred-Samusch-Straße 5\, Ahrensbur
 g
GEO:53.6735335;10.2358379
DESCRIPTION:\nIm Tierschutzgesetz werden Tiere als unsere "Mitgeschöpfe" b
 ezeichnet.\nAber werden sie auch so behandelt?\n\nIn dieser Ausstellung ze
 igen wir an Beispielen\, wo und wie das Leben der Tiere durch unser Verhal
 ten - bewusst oder auch nur unbewusst - beeinflusst und bestimmt\, häufig
  auch beeinträchtigt\, eingeschränkt oder gar zerstört wird und welchen
  Schutz Tiere darum unbedingt brauchen.\nWie eng unser Leben mit Tieren ve
 rknüpft ist und wie sehr wir mit\, durch oder wegen der Tiere leben\, ist
  vielen sicher nicht bewusst. Nutztiere\, Haustiere\, Wildtiere\, Versuchs
 tiere\, Zootiere usw. - schon diese unvollständige Aufzählung lässt die
  Bandbreite erahnen. Geliebt oder gar vergöttert\, verehrt und bewundert\
 , missbraucht und gequält\, ignoriert und verleugnet - unser Verhalten\, 
 unsere Einstellung\, unser Handeln (und auch unser Nicht-Handeln) betrifft
  die Tiere. Gezielt oder passiv - wir haben alle mit Tieren zu tun. Schon 
 die tägliche Entscheidung\, was auf unsere Teller kommt\, was wir anziehe
 n\, welche Konsumgüter wir kaufen\, wie unser Alltag aussieht - häufig b
 etreffen diese Entscheidungen auch die Tiere.\nDarum muss Tierschutz unive
 rsal sein und zu einem Prinzip unseres Lebens werden. Nur so können wir u
 nserer Verantwortung für unsere Mitgeschöpfe gerecht werden.\n\nÖffnung
 szeiten: Mo.-Mi. und Fr. 8-12 Uhr\, Do. 14-18 Uhr\n\nVeranstalter: Tierrec
 hte Ahrensburg e.V.
BEGIN:VALARM
TRIGGER;VALUE=DURATION:P1D
ACTION:DISPLAY
DESCRIPTION:Tierschutz jetzt - Lass die Tiere nicht im Stich!
END:VALARM
END:VEVENT
END:VCALENDAR
